BEGIN:VCALENDAR
VERSION:2.0
PRODID:-//ASD KEPOS - Team Crisafulli - ECPv5.8.2//NONSGML v1.0//EN
CALSCALE:GREGORIAN
METHOD:PUBLISH
X-WR-CALNAME:ASD KEPOS - Team Crisafulli
X-ORIGINAL-URL:https://www.teamcrisafulli.it
X-WR-CALDESC:Eventi per ASD KEPOS - Team Crisafulli
BEGIN:VTIMEZONE
TZID:Europe/Helsinki
BEGIN:DAYLIGHT
TZOFFSETFROM:+0200
TZOFFSETTO:+0300
TZNAME:EEST
DTSTART:20240331T010000
END:DAYLIGHT
BEGIN:STANDARD
TZOFFSETFROM:+0300
TZOFFSETTO:+0200
TZNAME:EET
DTSTART:20241027T010000
END:STANDARD
END:VTIMEZONE
BEGIN:VEVENT
DTSTART;VALUE=DATE:20240707
DTEND;VALUE=DATE:20240708
DTSTAMP:20260421T193427
CREATED:20241009T090647Z
LAST-MODIFIED:20241009T090647Z
UID:4528-1720310400-1720396799@www.teamcrisafulli.it
SUMMARY:Team Crisafulli in Tokyo
DESCRIPTION:IL MAESTRO CRISAFULLI NEL MESE DI LUGLIO HA PORTATO A TOKYO L’ATLETA RUBEN BUSA’\, CHE CON TUTTO RISPETTO SI E’ CONFRONTATO CON UN ATLETA ARGENTINO. L’ESPERIENZA ESOTICA NON TERMINERA’ DOI CERTO QUI ED INIZIERA’ UNA GRANDE COLLABORAZIONE TRA ORIENTE ED OCCIDENTE CON UNA PUNTA BDI DIAMANTE IN QUESTO INTERSCAMBIO: IL TEAM CRISAFULLI E LA NOSTRA BELLISSIMA MESSINA! IL MAESTRO KAICHO\, IL MAESTRO MORDILLO PRESTO SARANNO OSPITI NELLA NOSTRA TERRA. L’ULTIMO SAMURAI SARA’ PRESTO IN ITALIA\, AD AMMIRARE LA BELLEZZA DEI NOSTRI LUOGHI E A MIRARE LA FORZA DEI NOSTRI ATLETI. SIETE PRONTI? NON PERDETE LE NEWS AL RIGUARDO.
URL:https://www.teamcrisafulli.it/event/team-crisafulli-in-tokyo/
LOCATION:tokyo\, TOKYO DOME\, Giappone
END:VEVENT
END:VCALENDAR